View In:
ArcGIS JavaScript
ArcGIS Online Map Viewer
ArcGIS Earth
ArcGIS Pro
Service Description: <span style='font-family:"Avenir Next W01", "Avenir Next W00", "Avenir Next", Avenir, "Helvetica Neue", sans-serif; font-size:16px;'>Latest Aerial Imagery for the Christchurch City District</span><div><font face='Avenir Next W01, Avenir Next W00, Avenir Next, Avenir, Helvetica Neue, sans-serif'><span style='font-size:16px;'><br /></span></font><div><span style='font-family:"Avenir Next W01", "Avenir Next W00", "Avenir Next", Avenir, "Helvetica Neue", sans-serif; font-size:16px;'>Christchurch Imagery 2025 Map Service Tile Cache</span><div style='font-family:"Avenir Next W01", "Avenir Next W00", "Avenir Next", Avenir, "Helvetica Neue", sans-serif; font-size:16px;'><font size='3' style='font-family:inherit;'><br /></font></div><div style='font-family:"Avenir Next W01", "Avenir Next W00", "Avenir Next", Avenir, "Helvetica Neue", sans-serif; font-size:16px;'><div style='font-family:"Segoe UI", "Segoe UI Web", Arial, Verdana, sans-serif; margin:0px; padding:0px; clear:both; color:rgb(0, 0, 0);'><p style='margin-top:0px; margin-bottom:10.6667px; padding:0px; font-kerning:none; background-color:transparent; color:windowtext;'><font size='3' style='font-family:inherit;'><span style='font-family:"Source Sans Pro", "Source Sans Pro_EmbeddedFont", "Source Sans Pro_MSFontService", sans-serif; margin:0px; padding:0px; font-variant-ligatures:none !important;'><span style='font-family:inherit; margin:0px; padding:0px;'>The imagery was captured </span><span style='font-family:inherit; margin:0px; padding:0px;'>from a series of flights </span><span style='font-family:inherit; margin:0px; padding:0px;'>earlier </span><span style='font-family:inherit; margin:0px; padding:0px;'>in the</span><span style='font-family:inherit; margin:0px; padding:0px;'> year</span><span style='font-family:inherit; margin:0px; padding:0px;'> 2025</span><span style='font-family:inherit; margin:0px; padding:0px;'>:</span></span><span style='font-family:"Source Sans Pro", "Source Sans Pro_EmbeddedFont", "Source Sans Pro_MSFontService", sans-serif; margin:0px; padding:0px;'> </span></font></p></div><div style='font-family:"Segoe UI", "Segoe UI Web", Arial, Verdana, sans-serif; margin:0px; padding:0px; color:rgb(0, 0, 0);'><ul><li><p style='margin-top:0px; margin-bottom:0px; padding:0px; font-kerning:none; background-color:transparent; color:windowtext;'><font size='3' style='font-family:inherit;'><span style='font-family:"Source Sans Pro", "Source Sans Pro_EmbeddedFont", "Source Sans Pro_MSFontService", sans-serif; margin:0px; padding:0px; font-variant-ligatures:none !important;'><span style='font-family:inherit; margin:0px; padding:0px;'>Christchurch CBD</span><span style='font-family:inherit; margin:0px; padding:0px;'>: </span><span style='font-family:inherit; margin:0px; padding:0px;'>March</span></span><span style='font-family:"Source Sans Pro", "Source Sans Pro_EmbeddedFont", "Source Sans Pro_MSFontService", sans-serif; margin:0px; padding:0px;'> </span></font></p></li></ul></div><div style='font-family:"Segoe UI", "Segoe UI Web", Arial, Verdana, sans-serif; margin:0px; padding:0px; color:rgb(0, 0, 0);'><ul><li><p style='margin-top:0px; margin-bottom:0px; padding:0px; font-kerning:none; background-color:transparent; color:windowtext;'><font size='3' style='font-family:inherit;'><span style='font-family:"Source Sans Pro", "Source Sans Pro_EmbeddedFont", "Source Sans Pro_MSFontService", sans-serif; margin:0px; padding:0px; font-variant-ligatures:none !important;'><span style='font-family:inherit; margin:0px; padding:0px;'>Christchurch </span><span style='font-family:inherit; margin:0px; padding:0px;'>u</span><span style='font-family:inherit; margin:0px; padding:0px;'>rban area</span><span style='font-family:inherit; margin:0px; padding:0px;'>:</span><span style='font-family:inherit; margin:0px; padding:0px;'> </span><span style='font-family:inherit; margin:0px; padding:0px;'>March</span></span><span style='font-family:"Source Sans Pro", "Source Sans Pro_EmbeddedFont", "Source Sans Pro_MSFontService", sans-serif; margin:0px; padding:0px;'> </span></font></p></li></ul></div><div style='font-family:"Segoe UI", "Segoe UI Web", Arial, Verdana, sans-serif; margin:0px; padding:0px; color:rgb(0, 0, 0);'><ul><li><p style='margin-top:0px; margin-bottom:0px; padding:0px; font-kerning:none; background-color:transparent; color:windowtext;'><font size='3' style='font-family:inherit;'><span style='font-family:"Source Sans Pro", "Source Sans Pro_EmbeddedFont", "Source Sans Pro_MSFontService", sans-serif; margin:0px; padding:0px; font-variant-ligatures:none !important;'><span style='font-family:inherit; margin:0px; padding:0px;'>Banks Peninsula </span><span style='font-family:inherit; margin:0px; padding:0px;'>urban </span><span style='font-family:inherit; margin:0px; padding:0px;'>area: </span><span style='font-family:inherit; margin:0px; padding:0px;'> </span><span style='font-family:inherit; margin:0px; padding:0px;'>Mar</span><span style='font-family:inherit; margin:0px; padding:0px;'>ch- </span><span style='font-family:inherit; margin:0px; padding:0px;'>April</span></span><span style='font-family:"Source Sans Pro", "Source Sans Pro_EmbeddedFont", "Source Sans Pro_MSFontService", sans-serif; margin:0px; padding:0px;'> </span></font></p></li></ul></div><div style='font-family:"Segoe UI", "Segoe UI Web", Arial, Verdana, sans-serif; margin:0px; padding:0px; color:rgb(0, 0, 0);'><ul><li><p style='margin-top:0px; margin-bottom:0px; padding:0px; font-kerning:none; background-color:transparent; color:windowtext;'><font size='3' style='font-family:inherit;'><span style='font-family:"Source Sans Pro", "Source Sans Pro_EmbeddedFont", "Source Sans Pro_MSFontService", sans-serif; margin:0px; padding:0px; font-variant-ligatures:none !important;'>Banks Peninsula rural area: March</span><span style='font-family:"Source Sans Pro", "Source Sans Pro_EmbeddedFont", "Source Sans Pro_MSFontService", sans-serif; margin:0px; padding:0px;'> </span></font></p></li></ul></div><div style='font-family:"Segoe UI", "Segoe UI Web", Arial, Verdana, sans-serif; margin:0px; padding:0px; clear:both; color:rgb(0, 0, 0);'><p style='margin-top:0px; margin-bottom:10.6667px; padding:0px; font-kerning:none; background-color:transparent; color:windowtext;'><font size='3' style='font-family:inherit;'><span style='font-family:"Source Sans Pro", "Source Sans Pro_EmbeddedFont", "Source Sans Pro_MSFontService", sans-serif; margin:0px; padding:0px; font-variant-ligatures:none !important;'><span style='font-family:inherit; margin:0px; padding:0px;'>The resolution level ranges from <b>5cm</b> for the <b>CBD</b>, to <b>7.5cm</b> for Christchurch </span><span style='font-family:inherit; margin:0px; padding:0px;'>and Banks Peninsula </span><span style='font-family:inherit; margin:0px; padding:0px;'><b>urban </b>area</span><span style='font-family:inherit; margin:0px; padding:0px;'>s</span><span style='font-family:inherit; margin:0px; padding:0px;'> </span><span style='font-family:inherit; margin:0px; padding:0px;'>and <b>20cm</b> for Banks Peninsula</span><span style='font-family:inherit; margin:0px; padding:0px;'> <b>rural</b></span><span style='font-family:inherit; margin:0px; padding:0px;'><b> </b>area</span><span style='font-family:inherit; margin:0px; padding:0px;'>.</span></span><span style='font-family:"Source Sans Pro", "Source Sans Pro_EmbeddedFont", "Source Sans Pro_MSFontService", sans-serif; margin:0px; padding:0px;'> </span></font></p></div></div></div></div>
Map Name: Map
Legend
All Layers and Tables
Dynamic Legend
Dynamic All Layers
Layers:
Description:
Service Item Id: c0f1b50de9e24c439ce917d5e3dc1a56
Copyright Text:
Spatial Reference:
2193
(2193)
LatestVCSWkid(0)
Single Fused Map Cache: true
Tile Info:
- Height: 512
- Width: 512
- DPI: 96
-
Levels of Detail: 24
-
Level ID: 0
[ Start Tile, End Tile ]
- Resolution: 156543.03392799935
- Scale: 5.91657527591552E8
-
Level ID: 1
[ Start Tile, End Tile ]
- Resolution: 78271.51696399967
- Scale: 2.95828763795776E8
-
Level ID: 2
[ Start Tile, End Tile ]
- Resolution: 39135.75848199984
- Scale: 1.47914381897888E8
-
Level ID: 3
[ Start Tile, End Tile ]
- Resolution: 19567.87924099992
- Scale: 7.3957190948944E7
-
Level ID: 4
[ Start Tile, End Tile ]
- Resolution: 9783.93962049996
- Scale: 3.6978595474472E7
-
Level ID: 5
[ Start Tile, End Tile ]
- Resolution: 4891.96981024998
- Scale: 1.8489297737236E7
- Format: MIXED
- Compression Quality: 90.0
- Origin: X: -4020900.0
Y: 1.99981E7
- Spatial Reference: 2193
(2193)
LatestVCSWkid(0)
Storage Info:
- Storage Format: esriMapCacheStorageModeCompactV2
- Packet Size: 128
Initial Extent:
XMin: 1533524.5830692044
YMin: 5123216.352990815
XMax: 1634441.436635423
YMax: 5202629.826366764
Spatial Reference: 2193
(2193)
LatestVCSWkid(0)
Full Extent:
XMin: 1540000.0
YMin: 5128799.999996723
XMax: 1612000.0000364997
YMax: 5197920.0
Spatial Reference: 2193
(2193)
LatestVCSWkid(0)
Units: esriMeters
Supported Image Format Types: PNG32,PNG24,PNG,JPG,DIB,TIFF,EMF,PS,PDF,GIF,SVG,SVGZ,BMP
Document Info:
Title: Map
Author:
Comments:
Subject:
Category:
Keywords: Aerial,Basemap,Orthophoto,Imagery
AntialiasingMode: Fast
TextAntialiasingMode: Force
Supports Dynamic Layers: true
Resampling: true
MaxRecordCount: 2000
MaxImageHeight: 4096
MaxImageWidth: 4096
Supported Query Formats: JSON, geoJSON, PBF
Supports Query Data Elements: true
Min Scale: 5.91657527591552E8
Max Scale: 2.204096
Supports Datum Transformation: true
Child Resources:
Info
Dynamic Layer
Supported Operations:
Export Map
Identify
QueryLegends
QueryDomains
Find
EstimateExportTilesSize
ExportTiles
Return Updates