View In:
ArcGIS JavaScript
ArcGIS Online Map Viewer
ArcGIS Earth
ArcGIS Pro
Service Description:
Map Name: Map
Legend
All Layers and Tables
Dynamic Legend
Dynamic All Layers
Layers:
Description:
Service Item Id: 8ba4d456558a49fe906054a1cda73932
Copyright Text:
Spatial Reference:
2193
(2193)
LatestVCSWkid(0)
Single Fused Map Cache: true
Tile Info:
- Height: 512
- Width: 512
- DPI: 96
-
Levels of Detail: 24
-
Level ID: 0
[ Start Tile, End Tile ]
- Resolution: 156543.03392799935
- Scale: 5.91657527591552E8
-
Level ID: 1
[ Start Tile, End Tile ]
- Resolution: 78271.51696399967
- Scale: 2.95828763795776E8
-
Level ID: 2
[ Start Tile, End Tile ]
- Resolution: 39135.75848199984
- Scale: 1.47914381897888E8
-
Level ID: 3
[ Start Tile, End Tile ]
- Resolution: 19567.87924099992
- Scale: 7.3957190948944E7
-
Level ID: 4
[ Start Tile, End Tile ]
- Resolution: 9783.93962049996
- Scale: 3.6978595474472E7
-
Level ID: 5
[ Start Tile, End Tile ]
- Resolution: 4891.96981024998
- Scale: 1.8489297737236E7
- Format: MIXED
- Compression Quality: 90.0
- Origin: X: -4020900.0
Y: 1.99981E7
- Spatial Reference: 2193
(2193)
LatestVCSWkid(0)
Storage Info:
- Storage Format: esriMapCacheStorageModeCompactV2
- Packet Size: 128
Initial Extent:
XMin: 1547852.6307717373
YMin: 5110985.186355498
XMax: 1614103.8828282629
YMax: 5222987.815344501
Spatial Reference: 2193
(2193)
LatestVCSWkid(0)
Full Extent:
XMin: 1550916.0
YMin: 5138160.0
XMax: 1611040.0
YMax: 5195813.0017
Spatial Reference: 2193
(2193)
LatestVCSWkid(0)
Units: esriMeters
Supported Image Format Types: PNG32,PNG24,PNG,JPG,DIB,TIFF,EMF,PS,PDF,GIF,SVG,SVGZ,BMP
Document Info:
Title: Map
Author:
Comments:
Subject:
Category:
Keywords: Elevation,Terrian,Hillshade
AntialiasingMode: Fast
TextAntialiasingMode: Force
Supports Dynamic Layers: true
Resampling: true
MaxRecordCount: 2000
MaxImageHeight: 4096
MaxImageWidth: 4096
Supported Query Formats: JSON, geoJSON, PBF
Supports Query Data Elements: true
Min Scale: 5.91657527591552E8
Max Scale: 0
Supports Datum Transformation: true
Child Resources:
Info
Dynamic Layer
Supported Operations:
Export Map
Identify
QueryLegends
QueryDomains
Find
Return Updates